BEGIN:VCALENDAR
VERSION:2.0
PRODID:-//Clachàn - ECPv6.15.17.1//NONSGML v1.0//EN
CALSCALE:GREGORIAN
METHOD:PUBLISH
X-WR-CALNAME:Clachàn
X-ORIGINAL-URL:https://dev.bojannatuurlijk.nl
X-WR-CALDESC:Evenementen voor Clachàn
REFRESH-INTERVAL;VALUE=DURATION:PT1H
X-Robots-Tag:noindex
X-PUBLISHED-TTL:PT1H
BEGIN:VTIMEZONE
TZID:Europe/Amsterdam
BEGIN:DAYLIGHT
TZOFFSETFROM:+0100
TZOFFSETTO:+0200
TZNAME:CEST
DTSTART:20250330T010000
END:DAYLIGHT
BEGIN:STANDARD
TZOFFSETFROM:+0200
TZOFFSETTO:+0100
TZNAME:CET
DTSTART:20251026T010000
END:STANDARD
BEGIN:DAYLIGHT
TZOFFSETFROM:+0100
TZOFFSETTO:+0200
TZNAME:CEST
DTSTART:20260329T010000
END:DAYLIGHT
BEGIN:STANDARD
TZOFFSETFROM:+0200
TZOFFSETTO:+0100
TZNAME:CET
DTSTART:20261025T010000
END:STANDARD
BEGIN:DAYLIGHT
TZOFFSETFROM:+0100
TZOFFSETTO:+0200
TZNAME:CEST
DTSTART:20270328T010000
END:DAYLIGHT
BEGIN:STANDARD
TZOFFSETFROM:+0200
TZOFFSETTO:+0100
TZNAME:CET
DTSTART:20271031T010000
END:STANDARD
END:VTIMEZONE
BEGIN:VEVENT
DTSTART;TZID=Europe/Amsterdam:20260130T193000
DTEND;TZID=Europe/Amsterdam:20260130T213000
DTSTAMP:20260419T125439
CREATED:20251125T195424Z
LAST-MODIFIED:20251125T195424Z
UID:10000057-1769801400-1769808600@dev.bojannatuurlijk.nl
SUMMARY:Concert Theater Vianen
DESCRIPTION:Het Stedelijk Museum Vianen organiseert regelmatig een serie kleinkunstbijeenkomsten onder de noemer AvondextrA.
URL:https://dev.bojannatuurlijk.nl/event/concert-theater-vianen/
LOCATION:Theater Vianen\, Parallelweg 1\, Vianen\, Utrecht
END:VEVENT
END:VCALENDAR