BEGIN:VCALENDAR
VERSION:2.0
PRODID:-//Clachàn - ECPv6.15.17.1//NONSGML v1.0//EN
CALSCALE:GREGORIAN
METHOD:PUBLISH
X-WR-CALNAME:Clachàn
X-ORIGINAL-URL:https://dev.bojannatuurlijk.nl
X-WR-CALDESC:Evenementen voor Clachàn
REFRESH-INTERVAL;VALUE=DURATION:PT1H
X-Robots-Tag:noindex
X-PUBLISHED-TTL:PT1H
BEGIN:VTIMEZONE
TZID:Europe/Amsterdam
BEGIN:DAYLIGHT
TZOFFSETFROM:+0100
TZOFFSETTO:+0200
TZNAME:CEST
DTSTART:20200329T010000
END:DAYLIGHT
BEGIN:STANDARD
TZOFFSETFROM:+0200
TZOFFSETTO:+0100
TZNAME:CET
DTSTART:20201025T010000
END:STANDARD
BEGIN:DAYLIGHT
TZOFFSETFROM:+0100
TZOFFSETTO:+0200
TZNAME:CEST
DTSTART:20210328T010000
END:DAYLIGHT
BEGIN:STANDARD
TZOFFSETFROM:+0200
TZOFFSETTO:+0100
TZNAME:CET
DTSTART:20211031T010000
END:STANDARD
BEGIN:DAYLIGHT
TZOFFSETFROM:+0100
TZOFFSETTO:+0200
TZNAME:CEST
DTSTART:20220327T010000
END:DAYLIGHT
BEGIN:STANDARD
TZOFFSETFROM:+0200
TZOFFSETTO:+0100
TZNAME:CET
DTSTART:20221030T010000
END:STANDARD
BEGIN:DAYLIGHT
TZOFFSETFROM:+0100
TZOFFSETTO:+0200
TZNAME:CEST
DTSTART:20230326T010000
END:DAYLIGHT
BEGIN:STANDARD
TZOFFSETFROM:+0200
TZOFFSETTO:+0100
TZNAME:CET
DTSTART:20231029T010000
END:STANDARD
BEGIN:DAYLIGHT
TZOFFSETFROM:+0100
TZOFFSETTO:+0200
TZNAME:CEST
DTSTART:20240331T010000
END:DAYLIGHT
BEGIN:STANDARD
TZOFFSETFROM:+0200
TZOFFSETTO:+0100
TZNAME:CET
DTSTART:20241027T010000
END:STANDARD
BEGIN:DAYLIGHT
TZOFFSETFROM:+0100
TZOFFSETTO:+0200
TZNAME:CEST
DTSTART:20250330T010000
END:DAYLIGHT
BEGIN:STANDARD
TZOFFSETFROM:+0200
TZOFFSETTO:+0100
TZNAME:CET
DTSTART:20251026T010000
END:STANDARD
BEGIN:DAYLIGHT
TZOFFSETFROM:+0100
TZOFFSETTO:+0200
TZNAME:CEST
DTSTART:20260329T010000
END:DAYLIGHT
BEGIN:STANDARD
TZOFFSETFROM:+0200
TZOFFSETTO:+0100
TZNAME:CET
DTSTART:20261025T010000
END:STANDARD
END:VTIMEZONE
BEGIN:VTIMEZONE
TZID:UTC
BEGIN:STANDARD
TZOFFSETFROM:+0000
TZOFFSETTO:+0000
TZNAME:UTC
DTSTART:20210101T000000
END:STANDARD
END:VTIMEZONE
BEGIN:VEVENT
DTSTART;TZID=Europe/Amsterdam:20251128T193000
DTEND;TZID=Europe/Amsterdam:20251128T213000
DTSTAMP:20260419T161128
CREATED:20241012T122210Z
LAST-MODIFIED:20241012T122210Z
UID:10000050-1764358200-1764365400@dev.bojannatuurlijk.nl
SUMMARY:Concert Theater Vianen gaat niet door i.v.m. ziekte zangeres; concert verplaatst naar vrijdag 30 januari 2026!
DESCRIPTION:Stedelijk Museum Vianen organiseert regelmatig kleinkunst bijeenkomsten onder de noemer AvondextrA. \nZaal open vanaf 19u
URL:https://dev.bojannatuurlijk.nl/event/concert-stedelijk-museum-vianen/
LOCATION:Theater Vianen\, Parallelweg 1\, Vianen\, Utrecht
END:VEVENT
BEGIN:VEVENT
DTSTART;TZID=Europe/Amsterdam:20251116T150000
DTEND;TZID=Europe/Amsterdam:20251116T170000
DTSTAMP:20260419T161128
CREATED:20241012T122032Z
LAST-MODIFIED:20241012T122032Z
UID:10000049-1763305200-1763312400@dev.bojannatuurlijk.nl
SUMMARY:Optreden Commanderije Montfoort
DESCRIPTION:Kaartverkoop is aan de zaal. Commanderije open 14.30u
URL:https://dev.bojannatuurlijk.nl/event/optreden-cultureel-montfoort/
LOCATION:Commanderij van St. Jan\, Hofstraat 3\, Montfoort
END:VEVENT
BEGIN:VEVENT
DTSTART;TZID=Europe/Amsterdam:20250921T140000
DTEND;TZID=Europe/Amsterdam:20250921T160000
DTSTAMP:20260419T161128
CREATED:20240713T123005Z
LAST-MODIFIED:20240713T123005Z
UID:10000040-1758463200-1758470400@dev.bojannatuurlijk.nl
SUMMARY:Concert Theepaviljoen Hosterpark Duiven
DESCRIPTION:Locatie binnen of buiten wordt nader bepaald.
URL:https://dev.bojannatuurlijk.nl/event/concert-folkcafe-de-liemers-duiven/
LOCATION:Theepaviljoen Hosterpark\, Hosterparklaan 4\, Duiven\, 6922NR
END:VEVENT
BEGIN:VEVENT
DTSTART;TZID=Europe/Amsterdam:20250629T153000
DTEND;TZID=Europe/Amsterdam:20250629T163000
DTSTAMP:20260419T161128
CREATED:20240115T171219Z
LAST-MODIFIED:20240115T171219Z
UID:10000043-1751211000-1751214600@dev.bojannatuurlijk.nl
SUMMARY:Concert Eindenhout Koepelconcert Haarlemmerhout
DESCRIPTION:Ingang tegenover Sancta Maria lyceum @ Van Limburg Stirumstraat 4.  Parkeren van auto en fiets aldaar.
URL:https://dev.bojannatuurlijk.nl/event/concert-eindenhout-koepelconcert-haarlemmerhout/
LOCATION:Buitenplaats Eindenhout\, Haarlemmerhout
END:VEVENT
BEGIN:VEVENT
DTSTART;TZID=Europe/Amsterdam:20250621T203000
DTEND;TZID=Europe/Amsterdam:20250621T223000
DTSTAMP:20260419T161128
CREATED:20240108T193134Z
LAST-MODIFIED:20240108T193134Z
UID:10000042-1750537800-1750545000@dev.bojannatuurlijk.nl
SUMMARY:Concert Koffietuin Oudelande Zuid-Beveland 2025
DESCRIPTION:
URL:https://dev.bojannatuurlijk.nl/event/concert-de-zonnetuin-zuid-beveland-2025/
END:VEVENT
BEGIN:VEVENT
DTSTART;TZID=Europe/Amsterdam:20250307T200000
DTEND;TZID=Europe/Amsterdam:20250307T220000
DTSTAMP:20260419T161128
CREATED:20241023T152037Z
LAST-MODIFIED:20241023T152037Z
UID:10000051-1741377600-1741384800@dev.bojannatuurlijk.nl
SUMMARY:Concert Dorpscafé De Buren (Sociaal cultureel Centrum De Twee Marken) Maarn
DESCRIPTION:Toegang op basis van vrijwillige bijdrage na afloop van het concert.
URL:https://dev.bojannatuurlijk.nl/event/concert-cafe-de-buren-sociaal-cultureel-centrum-de-twee-marken-maarn/
LOCATION:Café De Buren (Sociaal Cultureel Centrum De Twee Marken Maarn\, Tromplaan 5\, Maarn\, Utrecht
END:VEVENT
BEGIN:VEVENT
DTSTART;TZID=Europe/Amsterdam:20250216T150000
DTEND;TZID=Europe/Amsterdam:20250216T170000
DTSTAMP:20260419T161128
CREATED:20240702T181020Z
LAST-MODIFIED:20240702T181020Z
UID:10000047-1739718000-1739725200@dev.bojannatuurlijk.nl
SUMMARY:Zondagmiddagconcert Mokum Folk Amstelveen
DESCRIPTION:Locatie: Alleman\, Den Bloeyenden Wijngaerdt 1   1183 JM Amstelveen \nZaal open v.a. 14.30u \n 
URL:https://dev.bojannatuurlijk.nl/event/zondagmiddagconcert-mokum-folk/
LOCATION:Wijkcentrum Alleman Amstelveen
ORGANIZER;CN="Mokum Folk":MAILTO:mokumfolk@gmail.com
END:VEVENT
BEGIN:VEVENT
DTSTART;TZID=Europe/Amsterdam:20250208T200000
DTEND;TZID=Europe/Amsterdam:20250208T220000
DTSTAMP:20260419T161128
CREATED:20240419T103022Z
LAST-MODIFIED:20240419T103022Z
UID:10000046-1739044800-1739052000@dev.bojannatuurlijk.nl
SUMMARY:Concert Wijkcentrum De Kruisdam Hilversum
DESCRIPTION:
URL:https://dev.bojannatuurlijk.nl/event/concert-wijkcentrum-de-kruisdam-hilversum/
END:VEVENT
BEGIN:VEVENT
DTSTART;TZID=Europe/Amsterdam:20250118T203000
DTEND;TZID=Europe/Amsterdam:20250118T223000
DTSTAMP:20260419T161128
CREATED:20230922T134159Z
LAST-MODIFIED:20230922T134159Z
UID:10000036-1737232200-1737239400@dev.bojannatuurlijk.nl
SUMMARY:Concert Cultureel Centrum 't Zandgat Katwijk (uitverkocht)
DESCRIPTION:Zaal gaat open om 20u.
URL:https://dev.bojannatuurlijk.nl/event/concert-cultureel-centrum-t-zandgat-katwijk/
LOCATION:Cultuurhuis Planck Katwijk
END:VEVENT
BEGIN:VEVENT
DTSTART;TZID=Europe/Amsterdam:20250111T200000
DTEND;TZID=Europe/Amsterdam:20250111T220000
DTSTAMP:20260419T161128
CREATED:20241123T195458Z
LAST-MODIFIED:20241123T195458Z
UID:10000052-1736625600-1736632800@dev.bojannatuurlijk.nl
SUMMARY:Concert Roots aan de Zaan Wormerveer
DESCRIPTION:Locatie: De Vermaning\, Zaanweg 57 Wormerveer
URL:https://dev.bojannatuurlijk.nl/event/concert-roots-aan-de-zaan-wormerveer/
LOCATION:De Vernaming Wormerveer\, Zaanweg 57\, Wormerveer
ORGANIZER;CN="Roots aan de Zaan":MAILTO:rootsaandezaan@gmail.com
END:VEVENT
BEGIN:VEVENT
DTSTART;TZID=Europe/Amsterdam:20241214T193000
DTEND;TZID=Europe/Amsterdam:20241214T223000
DTSTAMP:20260419T161128
CREATED:20240702T181136Z
LAST-MODIFIED:20240702T181136Z
UID:10000048-1734204600-1734215400@dev.bojannatuurlijk.nl
SUMMARY:Concert Evenement La Vie en Rose IJsselstein
DESCRIPTION:Locatie Koffiewinkel Kaatje & Co\, Utrechtsestraat 57 3101 CT IJsselstein
URL:https://dev.bojannatuurlijk.nl/event/cultuuravond-sprokkelhorst-ijsselstein/
LOCATION:Koffiewinkel Caatje & Co\, Utrechtsestraat 57\, IJsselstein\, Utrecht\, 3101 CT\, Nederland
ORGANIZER;CN="Stichting Mevrouw Klein Sprokkelhorst":MAILTO:secretariaat@sprokkelhorstpresenteert.nl
END:VEVENT
BEGIN:VEVENT
DTSTART;TZID=Europe/Amsterdam:20241103T160000
DTEND;TZID=Europe/Amsterdam:20241103T180000
DTSTAMP:20260419T161128
CREATED:20231110T155457Z
LAST-MODIFIED:20231110T155457Z
UID:10000038-1730649600-1730656800@dev.bojannatuurlijk.nl
SUMMARY:Concert Cultuurschuur Monster
DESCRIPTION:deur van de zaal is vanaf 15.30u open.
URL:https://dev.bojannatuurlijk.nl/event/concert-cultuurschuur-monster/
LOCATION:Zwartendijk 11 Monster\, Zwartendijk 11\, Monster
END:VEVENT
BEGIN:VEVENT
DTSTART;TZID=Europe/Amsterdam:20241020T120000
DTEND;TZID=Europe/Amsterdam:20241020T170000
DTSTAMP:20260419T161128
CREATED:20240108T192707Z
LAST-MODIFIED:20240108T192707Z
UID:10000041-1729425600-1729443600@dev.bojannatuurlijk.nl
SUMMARY:Huisconcert Kunstfestival 'Tussen de schuifdeuren' Haarlem
DESCRIPTION:Locatie wordt nader bekend gemaakt.
URL:https://dev.bojannatuurlijk.nl/event/huisconcert-tussen-de-schuifdeuren-haarlem/
LOCATION:Haarlem
END:VEVENT
BEGIN:VEVENT
DTSTART;TZID=Europe/Amsterdam:20240428T150000
DTEND;TZID=Europe/Amsterdam:20240428T170000
DTSTAMP:20260419T161128
CREATED:20240129T165818Z
LAST-MODIFIED:20240129T165818Z
UID:10000045-1714316400-1714323600@dev.bojannatuurlijk.nl
SUMMARY:Concert Theater De Partner Nieuwegein
DESCRIPTION:
URL:https://dev.bojannatuurlijk.nl/event/concert-theater-de-partner-nieuwegein/
LOCATION:Theater De Parter Nieuwegein\, Nedereindseweg 401a\, Nieuwegein\, Utrecht\, 3437PL
END:VEVENT
BEGIN:VEVENT
DTSTART;TZID=Europe/Amsterdam:20240413T203000
DTEND;TZID=Europe/Amsterdam:20240413T223000
DTSTAMP:20260419T161128
CREATED:20231201T164943Z
LAST-MODIFIED:20231201T164943Z
UID:10000039-1713040200-1713047400@dev.bojannatuurlijk.nl
SUMMARY:Concert De Klink Koudum
DESCRIPTION:
URL:https://dev.bojannatuurlijk.nl/event/concert-doprshuis-de-klink-koudum/
LOCATION:Koudum Dorpshuis De Klink\, Ds. L. Tinholtstraat 1\, Koudum\, 8723CW
END:VEVENT
BEGIN:VEVENT
DTSTART;TZID=Europe/Amsterdam:20240225T140000
DTEND;TZID=Europe/Amsterdam:20240225T160000
DTSTAMP:20260419T161128
CREATED:20240122T130433Z
LAST-MODIFIED:20240122T130433Z
UID:10000044-1708869600-1708876800@dev.bojannatuurlijk.nl
SUMMARY:Verjaardagsconcert Overveen (besloten)
DESCRIPTION:
URL:https://dev.bojannatuurlijk.nl/event/verjaardagsconcert-overveen-besloten/
END:VEVENT
BEGIN:VEVENT
DTSTART;TZID=Europe/Amsterdam:20231216T193000
DTEND;TZID=Europe/Amsterdam:20231216T223000
DTSTAMP:20260419T161128
CREATED:20230925T183420Z
LAST-MODIFIED:20230925T183420Z
UID:10000037-1702755000-1702765800@dev.bojannatuurlijk.nl
SUMMARY:Celtic Winter Night (Mevrouw Klein Sprokkelhorst) IJsselstein
DESCRIPTION:Locatie:  tegenover Achtersloot 57
URL:https://dev.bojannatuurlijk.nl/event/festival-mevrouw-klein-sprokkelhorst-ijsselstein/
LOCATION:Achtersloot IJsselstein\, Achtersloot\, IJsselstein
ORGANIZER;CN="Stichting Mevrouw Klein Sprokkelhorst":MAILTO:secretariaat@sprokkelhorstpresenteert.nl
END:VEVENT
BEGIN:VEVENT
DTSTART;TZID=Europe/Amsterdam:20230930T203000
DTEND;TZID=Europe/Amsterdam:20230930T233000
DTSTAMP:20260419T161128
CREATED:20230707T160714Z
LAST-MODIFIED:20230707T160714Z
UID:10000035-1696105800-1696116600@dev.bojannatuurlijk.nl
SUMMARY:Irish festival de Tambour Hoogeveen / Cultureel centrum Het Podium
DESCRIPTION:
URL:https://dev.bojannatuurlijk.nl/event/irish-festival-de-tambour-hoogeveen-cultureel-centrum-het-podium/
LOCATION:De Tambour Cultureel centrum Het Podium\, Hoofdstraat 17\, Hoogeveen\, Drenthe\, 7902EA
END:VEVENT
BEGIN:VEVENT
DTSTART;TZID=UTC:20230623T200000
DTEND;TZID=UTC:20230623T220000
DTSTAMP:20260419T161128
CREATED:20221007T170016Z
LAST-MODIFIED:20221007T170016Z
UID:10000032-1687550400-1687557600@dev.bojannatuurlijk.nl
SUMMARY:Concert Stroomhuis Neerijnen
DESCRIPTION:
URL:https://dev.bojannatuurlijk.nl/event/kerstavond-openluchtconcert-bij-stadhuis-ijselstein/
LOCATION:Stroomhuis Neerijnen\, van Palandtweg 1\, Neerijnen\, Utrecht\, 4182CA
END:VEVENT
BEGIN:VEVENT
DTSTART;TZID=UTC:20230309T170000
DTEND;TZID=UTC:20230309T190000
DTSTAMP:20260419T161128
CREATED:20221007T171230Z
LAST-MODIFIED:20221007T171230Z
UID:10000033-1678381200-1678388400@dev.bojannatuurlijk.nl
SUMMARY:Concert Faculty Club Utrecht (besloten)
DESCRIPTION:
URL:https://dev.bojannatuurlijk.nl/event/concert-faculty-club-utrecht-besloten/
LOCATION:Utrecht
END:VEVENT
BEGIN:VEVENT
DTSTART;TZID=UTC:20221223T150000
DTEND;TZID=UTC:20221223T160000
DTSTAMP:20260419T161128
CREATED:20221216T205811Z
LAST-MODIFIED:20221216T205811Z
UID:10000034-1671807600-1671811200@dev.bojannatuurlijk.nl
SUMMARY:Optreden Kerstevenement 'Stralend IJsselstein'
DESCRIPTION:Het betreft een buitenconcert voor het Stadhuis van IJsselstein.
URL:https://dev.bojannatuurlijk.nl/event/concert-sprokkelhorst-ijsselstein/
END:VEVENT
BEGIN:VEVENT
DTSTART;TZID=UTC:20221030T150000
DTEND;TZID=UTC:20221030T170000
DTSTAMP:20260419T161128
CREATED:20220924T160252Z
LAST-MODIFIED:20220924T160252Z
UID:10000031-1667142000-1667149200@dev.bojannatuurlijk.nl
SUMMARY:Concert Stadshuus Lochem
DESCRIPTION:Kaarten å €10\,- verkrijgbaar aan de zaal. Zaal is open vanaf 14.30u.
URL:https://dev.bojannatuurlijk.nl/event/openluchtconcert-stadhuis-cultuurhuis-lochem/
LOCATION:Concert Stadshuus Lochem\, Markt 3\, Lochem\, 7241AA
ORGANIZER;CN="Vereniging Het Stadhuus":MAILTO:info@stadshuuslochem.nl
END:VEVENT
BEGIN:VEVENT
DTSTART;TZID=Europe/Amsterdam:20220611T130000
DTEND;TZID=Europe/Amsterdam:20220611T170000
DTSTAMP:20260419T161128
CREATED:20220117T162219Z
LAST-MODIFIED:20220117T162219Z
UID:10000029-1654952400-1654966800@dev.bojannatuurlijk.nl
SUMMARY:Concert Muziekfestival Sprokkelhorst IJsselstein
DESCRIPTION:Nadere informatie en locatie van openluchtfestival volgt nog.
URL:https://dev.bojannatuurlijk.nl/event/concert-muziekfestival-sprokkelhorst-ijsselstein/
END:VEVENT
BEGIN:VEVENT
DTSTART;TZID=Europe/Amsterdam:20220521T160000
DTEND;TZID=Europe/Amsterdam:20220521T200000
DTSTAMP:20260419T161128
CREATED:20220209T175410Z
LAST-MODIFIED:20220209T175410Z
UID:10000030-1653148800-1653163200@dev.bojannatuurlijk.nl
SUMMARY:Concert privéfeest Drenthe (besloten)
DESCRIPTION:Privé concert Drenthe
URL:https://dev.bojannatuurlijk.nl/event/703/
END:VEVENT
BEGIN:VEVENT
DTSTART;TZID=Europe/Amsterdam:20220410T160000
DTEND;TZID=Europe/Amsterdam:20220410T190000
DTSTAMP:20260419T161128
CREATED:20201222T121647Z
LAST-MODIFIED:20201222T121647Z
UID:10000026-1649606400-1649617200@dev.bojannatuurlijk.nl
SUMMARY:Optreden verjaardagsfeest Angelique (besloten)
DESCRIPTION:
URL:https://dev.bojannatuurlijk.nl/event/prive-concert-verjaardagsfeest-maarssen/
LOCATION:De Heeren van Maarssen
END:VEVENT
BEGIN:VEVENT
DTSTART;TZID=Europe/Amsterdam:20220324T193000
DTEND;TZID=Europe/Amsterdam:20220324T213000
DTSTAMP:20260419T161128
CREATED:20190719T200957Z
LAST-MODIFIED:20190719T200957Z
UID:10000019-1648150200-1648157400@dev.bojannatuurlijk.nl
SUMMARY:Concert  AvondextrA Theater Vianen
DESCRIPTION:
URL:https://dev.bojannatuurlijk.nl/event/concert-avondextra-stedelijk-museum-vianen/
LOCATION:Vianen\, Voorstraat 97\, Vianen\, Utrecht\, 4132 P
END:VEVENT
BEGIN:VEVENT
DTSTART;TZID=Europe/Amsterdam:20211113T200000
DTEND;TZID=Europe/Amsterdam:20211113T220000
DTSTAMP:20260419T161128
CREATED:20200908T115800Z
LAST-MODIFIED:20200908T115800Z
UID:10000023-1636833600-1636840800@dev.bojannatuurlijk.nl
SUMMARY:Concert Oud-Katholieke Kerk Culemborg
DESCRIPTION:  \nKaarten á €10 zijn verkrijgbaar bij boekhandel Tomey\, Markt 36\, 4101BX Culemborg\, tel. 0345522544
URL:https://dev.bojannatuurlijk.nl/event/concert-oud-katholieke-kerk-culemborg/
LOCATION:Oud-Katholieke kerk Culemborg\, Varkensmarkt 18-20\, Culemborg\, Utrecht\, 4101CL
END:VEVENT
BEGIN:VEVENT
DTSTART;TZID=Europe/Amsterdam:20211023T203000
DTEND;TZID=Europe/Amsterdam:20211023T233000
DTSTAMP:20260419T161128
CREATED:20210724T144138Z
LAST-MODIFIED:20210724T144138Z
UID:10000028-1635021000-1635031800@dev.bojannatuurlijk.nl
SUMMARY:Concert en sessie Folk café Hoorn
DESCRIPTION:Muziek evenement welke start met een concert van Clachán om 20.30. Dit wordt afgesloten met een jamsessie/samenspel. Dus neem je instrument mee! \nHet concert is gratis toegankelijk\, wel op basis van een vrijwillige bijdrage van het publiek!
URL:https://dev.bojannatuurlijk.nl/event/concert-folk-cafe-hoorn/
LOCATION:Cultureel Centrum De Plataan\, Pastoor Nuijenstraat 1\, Zwaag\, 1689GN
END:VEVENT
BEGIN:VEVENT
DTSTART;TZID=Europe/Amsterdam:20211003T150000
DTEND;TZID=Europe/Amsterdam:20211003T170000
DTSTAMP:20260419T161128
CREATED:20201110T191428Z
LAST-MODIFIED:20201110T191428Z
UID:10000024-1633273200-1633280400@dev.bojannatuurlijk.nl
SUMMARY:Concert Stroomhuis Neerijnen
DESCRIPTION:Reis door de Keltische folkmuziek met Cláchan! \nKaarten á €15\,- (toegang + koffie/thee) van tevoren reserveren via www.stroomhuisneerijnen.nl
URL:https://dev.bojannatuurlijk.nl/event/concert-stroomhuis-neerijnen/
LOCATION:Van Pallandtweg 1\, 4182 CA Neerijnen\, Van Pallandweg 1\, Neerijnen\, Utrecht\, 4182CA
END:VEVENT
BEGIN:VEVENT
DTSTART;TZID=Europe/Amsterdam:20210911T120000
DTEND;TZID=Europe/Amsterdam:20210911T170000
DTSTAMP:20260419T161128
CREATED:20210724T142853Z
LAST-MODIFIED:20210724T142853Z
UID:10000027-1631361600-1631379600@dev.bojannatuurlijk.nl
SUMMARY:Miniconcerten festival Mevrouw KLEIN Sprokkelhorst IJsselstein
DESCRIPTION:Tijdens De Verborgen tuinen kun je ongeveer4 40 privé tuinen bezoeken\, waarin telkens iets bijzonders wordt georganiseerd rondom muziek\, theater\, dans\, poëzie etc. \nClachán speelt in het Kasteelpark. Zie verder het programma via de website van de organisatie. De toegang is vrij. \n  \n 
URL:https://dev.bojannatuurlijk.nl/event/miniconcerten-festival-mevrouw-klein-sprokkelhorst-ijsselstein/
LOCATION:De Verborgen Tuinen\, IJsselstein\, Utrecht
ORGANIZER;CN="Stichting Mevrouw Klein Sprokkelhorst":MAILTO:secretariaat@sprokkelhorstpresenteert.nl
END:VEVENT
END:VCALENDAR