BEGIN:VCALENDAR
VERSION:2.0
PRODID:-//Clachàn - ECPv6.15.17.1//NONSGML v1.0//EN
CALSCALE:GREGORIAN
METHOD:PUBLISH
X-WR-CALNAME:Clachàn
X-ORIGINAL-URL:https://dev.bojannatuurlijk.nl
X-WR-CALDESC:Evenementen voor Clachàn
REFRESH-INTERVAL;VALUE=DURATION:PT1H
X-Robots-Tag:noindex
X-PUBLISHED-TTL:PT1H
BEGIN:VTIMEZONE
TZID:Europe/Amsterdam
BEGIN:STANDARD
TZOFFSETFROM:+0100
TZOFFSETTO:+0100
TZNAME:CET
DTSTART:19690101T000000
END:STANDARD
END:VTIMEZONE
BEGIN:VEVENT
DTSTART;TZID=Europe/Amsterdam:20260420T221039
DTEND;TZID=Europe/Amsterdam:20260420T221039
DTSTAMP:20260420T221039
CREATED:20180903T200647Z
LAST-MODIFIED:20180903T200647Z
UID:10000013-0-0@dev.bojannatuurlijk.nl
SUMMARY:Themadag 'Fantasy' De Manege Voorschoten
DESCRIPTION:
URL:https://dev.bojannatuurlijk.nl/event/open-monumentendag-grimde-gemeente-tienen-belgie/
LOCATION:Utrecht
END:VEVENT
END:VCALENDAR