BEGIN:VCALENDAR
VERSION:2.0
PRODID:-//Clachàn - ECPv6.15.17.1//NONSGML v1.0//EN
CALSCALE:GREGORIAN
METHOD:PUBLISH
X-ORIGINAL-URL:https://dev.bojannatuurlijk.nl
X-WR-CALDESC:Evenementen voor Clachàn
REFRESH-INTERVAL;VALUE=DURATION:PT1H
X-Robots-Tag:noindex
X-PUBLISHED-TTL:PT1H
BEGIN:VTIMEZONE
TZID:Europe/Amsterdam
BEGIN:DAYLIGHT
TZOFFSETFROM:+0100
TZOFFSETTO:+0200
TZNAME:CEST
DTSTART:20200329T010000
END:DAYLIGHT
BEGIN:STANDARD
TZOFFSETFROM:+0200
TZOFFSETTO:+0100
TZNAME:CET
DTSTART:20201025T010000
END:STANDARD
BEGIN:DAYLIGHT
TZOFFSETFROM:+0100
TZOFFSETTO:+0200
TZNAME:CEST
DTSTART:20210328T010000
END:DAYLIGHT
BEGIN:STANDARD
TZOFFSETFROM:+0200
TZOFFSETTO:+0100
TZNAME:CET
DTSTART:20211031T010000
END:STANDARD
BEGIN:DAYLIGHT
TZOFFSETFROM:+0100
TZOFFSETTO:+0200
TZNAME:CEST
DTSTART:20220327T010000
END:DAYLIGHT
BEGIN:STANDARD
TZOFFSETFROM:+0200
TZOFFSETTO:+0100
TZNAME:CET
DTSTART:20221030T010000
END:STANDARD
BEGIN:DAYLIGHT
TZOFFSETFROM:+0100
TZOFFSETTO:+0200
TZNAME:CEST
DTSTART:20230326T010000
END:DAYLIGHT
BEGIN:STANDARD
TZOFFSETFROM:+0200
TZOFFSETTO:+0100
TZNAME:CET
DTSTART:20231029T010000
END:STANDARD
BEGIN:DAYLIGHT
TZOFFSETFROM:+0100
TZOFFSETTO:+0200
TZNAME:CEST
DTSTART:20240331T010000
END:DAYLIGHT
BEGIN:STANDARD
TZOFFSETFROM:+0200
TZOFFSETTO:+0100
TZNAME:CET
DTSTART:20241027T010000
END:STANDARD
BEGIN:DAYLIGHT
TZOFFSETFROM:+0100
TZOFFSETTO:+0200
TZNAME:CEST
DTSTART:20250330T010000
END:DAYLIGHT
BEGIN:STANDARD
TZOFFSETFROM:+0200
TZOFFSETTO:+0100
TZNAME:CET
DTSTART:20251026T010000
END:STANDARD
END:VTIMEZONE
BEGIN:VEVENT
DTSTART;TZID=Europe/Amsterdam:20241214T193000
DTEND;TZID=Europe/Amsterdam:20241214T223000
DTSTAMP:20260420T014654
CREATED:20240702T181136Z
LAST-MODIFIED:20240702T181136Z
UID:10000048-1734204600-1734215400@dev.bojannatuurlijk.nl
SUMMARY:Concert Evenement La Vie en Rose IJsselstein
DESCRIPTION:Locatie Koffiewinkel Kaatje & Co\, Utrechtsestraat 57 3101 CT IJsselstein
URL:https://dev.bojannatuurlijk.nl/event/cultuuravond-sprokkelhorst-ijsselstein/
LOCATION:Koffiewinkel Caatje & Co\, Utrechtsestraat 57\, IJsselstein\, Utrecht\, 3101 CT\, Nederland
ORGANIZER;CN="Stichting Mevrouw Klein Sprokkelhorst":MAILTO:secretariaat@sprokkelhorstpresenteert.nl
END:VEVENT
BEGIN:VEVENT
DTSTART;TZID=Europe/Amsterdam:20231216T193000
DTEND;TZID=Europe/Amsterdam:20231216T223000
DTSTAMP:20260420T014654
CREATED:20230925T183420Z
LAST-MODIFIED:20230925T183420Z
UID:10000037-1702755000-1702765800@dev.bojannatuurlijk.nl
SUMMARY:Celtic Winter Night (Mevrouw Klein Sprokkelhorst) IJsselstein
DESCRIPTION:Locatie:  tegenover Achtersloot 57
URL:https://dev.bojannatuurlijk.nl/event/festival-mevrouw-klein-sprokkelhorst-ijsselstein/
LOCATION:Achtersloot IJsselstein\, Achtersloot\, IJsselstein
ORGANIZER;CN="Stichting Mevrouw Klein Sprokkelhorst":MAILTO:secretariaat@sprokkelhorstpresenteert.nl
END:VEVENT
BEGIN:VEVENT
DTSTART;TZID=Europe/Amsterdam:20210911T120000
DTEND;TZID=Europe/Amsterdam:20210911T170000
DTSTAMP:20260420T014654
CREATED:20210724T142853Z
LAST-MODIFIED:20210724T142853Z
UID:10000027-1631361600-1631379600@dev.bojannatuurlijk.nl
SUMMARY:Miniconcerten festival Mevrouw KLEIN Sprokkelhorst IJsselstein
DESCRIPTION:Tijdens De Verborgen tuinen kun je ongeveer4 40 privé tuinen bezoeken\, waarin telkens iets bijzonders wordt georganiseerd rondom muziek\, theater\, dans\, poëzie etc. \nClachán speelt in het Kasteelpark. Zie verder het programma via de website van de organisatie. De toegang is vrij. \n  \n 
URL:https://dev.bojannatuurlijk.nl/event/miniconcerten-festival-mevrouw-klein-sprokkelhorst-ijsselstein/
LOCATION:De Verborgen Tuinen\, IJsselstein\, Utrecht
ORGANIZER;CN="Stichting Mevrouw Klein Sprokkelhorst":MAILTO:secretariaat@sprokkelhorstpresenteert.nl
END:VEVENT
END:VCALENDAR